BEGIN:VCALENDAR
VERSION:2.0
PRODID:-//Tukios.com/
BEGIN:VEVENT
UID:6f8e0343-3e01-433b-8d0f-ea9f8f74a021@obits.fiorittofuneralservice.net
DTSTAMP:20260421T054436Z
DTSTART:20260426T180000Z
DTEND:20260426T200000Z
SUMMARY:Visitation
DESCRIPTION:
URL:https://obits.fiorittofuneralservice.net/barbara-daniels
LOCATION: 5236 Mayfield Rd  Lyndhurst OH 44124
GEO:41.5193374;-81.4911459
END:VEVENT
END:VCALENDAR