BEGIN:VCALENDAR
VERSION:2.0
PRODID:-//Tukios.com/
BEGIN:VEVENT
UID:76d5c992-e6c8-4a00-98c0-34907e37f458@obits.fiorittofuneralservice.net
DTSTAMP:20260425T232456Z
DTSTART:20260428T190000Z
DTEND:20260428T230000Z
SUMMARY:Visitation
DESCRIPTION:
URL:https://obits.fiorittofuneralservice.net/rosenna-rose-vitullo
LOCATION: 5236 Mayfield Rd  Lyndhurst OH 44124
GEO:41.5193374;-81.4911459
END:VEVENT
END:VCALENDAR