BEGIN:VCALENDAR
VERSION:2.0
PRODID:-//Tukios.com/
BEGIN:VEVENT
UID:1d614f3b-1f83-494b-a573-49a25f946c98@obits.fiorittofuneralservice.net
DTSTAMP:20260425T232310Z
DTSTART:20260429T140000Z
DTEND:20260429T150000Z
SUMMARY:Mass of Christian Burial
DESCRIPTION:
URL:https://obits.fiorittofuneralservice.net/rosenna-rose-vitullo
LOCATION: 6850 Mayfield Rd  Gates Mills OH 44040
GEO:41.5188002;-81.4309808
END:VEVENT
END:VCALENDAR