BEGIN:VCALENDAR
VERSION:2.0
PRODID:-//Tukios.com/
BEGIN:VEVENT
UID:b4cc3d77-d4d9-4984-b88f-3e39a0b02387@obits.fiorittofuneralservice.net
DTSTAMP:20260425T232517Z
DTSTART:20260429T153000Z
DTEND:20260429T154500Z
SUMMARY:Entombment
DESCRIPTION:
URL:https://obits.fiorittofuneralservice.net/rosenna-rose-vitullo
LOCATION: 11521 Chillicothe Rd  Chesterland OH 44026
GEO:41.5591357;-81.3392539
END:VEVENT
END:VCALENDAR